Workbook

Sheet 入力画面
A1: 越前市 給与特別徴収 納入書
A2: 入力画面
B4: 【必須項目】 | G4: 指定番号【必須項目】
B5: 令和 | C5: 8 | D5: 年 | E5: 8 | F5: 月分 | G5: 9999
B6: 納入金額 | C6: 給与分 （一括徴収分を含む） | G6: 10000
C7: 退職所得分
C8: 延滞金
C9: 督促手数料
C10: 合計額 | G10: =SUM(G6:M9) -> 10000 | O10: ◎使用方法 黄色のセルを入力してください。 赤枠内は必ず入力してください。 入力が終了したら、印刷用シートを印刷してください。
B11: 納期限 | G11: =IFERROR(VLOOKUP(納期限!D1,納期限!A:C,3,FALSE),"") -> 令和8年9月10日
B12: （特別徴収義務者）
B13: 住所又は所在地 【必須項目】
B14: 越前市府中〇丁目〇-〇
B16: 氏名又は名称 【必須項目】
B17: 〇〇 株式会社 | M17: 様

Sheet 印刷用
A1: 福井県 越前市 | M1: 個人市民税 個人県民税 領収証書 | AI1: 福井県 越前市 | AU1: 個人市民税 個人県民税 納入書(原符) | BQ1: 福井県 越前市 | CC1: 個人市民税 個人県民税 納入済通知書
A9: 市町村コード | AI9: 市町村コード | BQ9: 市町村コード | CC9: 科目コード
A12: 1 | C12: 8 | E12: 2 | G12: 0 | I12: 9 | K12: 5 | AI12: 1 | AK12: 8 | AM12: 2 | AO12: 0 | AQ12: 9 | AS12: 5 | BQ12: 1 | BS12: 8 | BU12: 2 | BW12: 0 | BY12: 9 | CA12: 5 | CC12: 02
A16: 口座番号 | Q16: 加入者名 | AI16: 口座番号 | AY16: 加入者名 | BQ16: 口座番号 | CG16: 加入者名
A19: 00740-7-960391 | Q19: 越前市会計管理者 | AI19: =A19 -> 00740-7-960391 | AY19: 越前市会計管理者 | BQ19: =AI19 -> 00740-7-960391 | CG19: 越前市会計管理者
A23: 令和 | F23: =IF(納期限!E1="×","",入力画面!C5) -> 8 | I23: 年 | O23: 指定番号 | AI23: 令和 | AN23: =F23 -> 8 | AQ23: 年 | AW23: 指定番号 | BQ23: 令和 | BV23: =F23 -> 8 | BY23: 年 | CE23: 指定番号
O26: =IF(納期限!E1="×","",入力画面!G5) -> 9999 | AW26: =O26 -> 9999 | CE26: =O26 -> 9999
F27: =IF(納期限!E1="×","",入力画面!E5) -> 8 | I27: 月分 | AN27: =F27 -> 8 | AQ27: 月分 | BV27: =F27 -> 8 | BY27: 月分
A34: 納入金額 | C34: 給与分 （一括徴収分を含む） | N34: 億 | P34: 千 | R34: 百 | T34: 十 | V34: 万 | X34: 千 | Z34: 百 | AB34: 十 | AD34: 円 | AI34: 納入金額 | AK34: 給与分 （一括徴収分を含む） | AV34: 億 | AX34: 千 | AZ34: 百 | BB34: 十 | BD34: 万 | BF34: 千 | BH34: 百 | BJ34: 十 | BL34: 円 | BQ34: 納入金額 | BS34: 給与分 （一括徴収分を含む） | CD34: 億 | CF34: 千 | CH34: 百 | CJ34: 十 | CL34: 万 | CN34: 千 | CP34: 百 | CR34: 十 | CT34: 円
N35: =IF(P35>100000000,"",IF(INT(入力画面!G6/100000000)=0,"\",MOD(INT(入力画面!G6/100000000),10))) | P35: =IF(R35>10000000,"",IF(INT(入力画面!G6/10000000)=0,"\",MOD(INT(入力画面!G6/10000000),10))) | R35: =IF(T35>1000000,"",IF(INT(入力画面!G6/1000000)=0,"\",MOD(INT(入力画面!G6/1000000),10))) | T35: =IF(V35>100000,"",IF(INT(入力画面!G6/100000)=0,"\",MOD(INT(入力画面!G6/100000),10))) -> \ | V35: =IF(X35>10000,"",IF(INT(入力画面!G6/10000)=0,"\",MOD(INT(入力画面!G6/10000),10))) -> 1 | X35: =IF(Z35>1000,"",IF(INT(入力画面!G6/1000)=0,"\",MOD(INT(入力画面!G6/1000),10))) -> 0 | Z35: =IF(AB35>100,"",IF(INT(入力画面!G6/100)=0,"\",MOD(INT(入力画面!G6/100),10))) -> 0 | AB35: =IF(AD35>10,"",IF(INT(入力画面!G6/10)=0,"\",MOD(INT(入力画面!G6/10),10))) -> 0 | AD35: =IF(入力画面!G6>=1,MOD(入力画面!G6,10),"") -> 0 | AV35: =N35 | AX35: =P35 | AZ35: =R35 | BB35: =T35 -> \ | BD35: =V35 -> 1 | BF35: =X35 -> 0 | BH35: =Z35 -> 0 | BJ35: =AB35 -> 0 | BL35: =AD35 -> 0 | CD35: =AV35 | CF35: =AX35 | CH35: =AZ35 | CJ35: =BB35 -> \ | CL35: =BD35 -> 1 | CN35: =BF35 -> 0 | CP35: =BH35 -> 0 | CR35: =BJ35 -> 0 | CT35: =BL35 -> 0
C41: 退職所得分 | N41: =IF(P41>100000000,"",IF(INT(入力画面!G7/100000000)=0,"\",MOD(INT(入力画面!G7/100000000),10))) | P41: =IF(R41>10000000,"",IF(INT(入力画面!G7/10000000)=0,"\",MOD(INT(入力画面!G7/10000000),10))) | R41: =IF(T41>1000000,"",IF(INT(入力画面!G7/1000000)=0,"\",MOD(INT(入力画面!G7/1000000),10))) | T41: =IF(V41>100000,"",IF(INT(入力画面!G7/100000)=0,"\",MOD(INT(入力画面!G7/100000),10))) | V41: =IF(X41>10000,"",IF(INT(入力画面!G7/10000)=0,"\",MOD(INT(入力画面!G7/10000),10))) | X41: =IF(Z41>1000,"",IF(INT(入力画面!G7/1000)=0,"\",MOD(INT(入力画面!G7/1000),10))) | Z41: =IF(AB41>100,"",IF(INT(入力画面!G7/100)=0,"\",MOD(INT(入力画面!G7/100),10))) | AB41: =IF(AD41>10,"",IF(INT(入力画面!G7/10)=0,"\",MOD(INT(入力画面!G7/10),10))) | AD41: =IF(入力画面!G7>=1,MOD(入力画面!G7,10),"") | AK41: 退職所得分 | AV41: =N41 | AX41: =P41 | AZ41: =R41 | BB41: =T41 | BD41: =V41 | BF41: =X41 | BH41: =Z41 | BJ41: =AB41 | BL41: =AD41 | BS41: 退職所得分 | CD41: =AV41 | CF41: =AX41 | CH41: =AZ41 | CJ41: =BB41 | CL41: =BD41 | CN41: =BF41 | CP41: =BH41 | CR41: =BJ41 | CT41: =BL41
C47: 延滞金 | N47: =IF(P47>100000000,"",IF(INT(入力画面!G8/100000000)=0,"\",MOD(INT(入力画面!G8/100000000),10))) | P47: =IF(R47>10000000,"",IF(INT(入力画面!G8/10000000)=0,"\",MOD(INT(入力画面!G8/10000000),10))) | R47: =IF(T47>1000000,"",IF(INT(入力画面!G8/1000000)=0,"\",MOD(INT(入力画面!G8/1000000),10))) | T47: =IF(V47>100000,"",IF(INT(入力画面!G8/100000)=0,"\",MOD(INT(入力画面!G8/100000),10))) | V47: =IF(X47>10000,"",IF(INT(入力画面!G8/10000)=0,"\",MOD(INT(入力画面!G8/10000),10))) | X47: =IF(Z47>1000,"",IF(INT(入力画面!G8/1000)=0,"\",MOD(INT(入力画面!G8/1000),10))) | Z47: =IF(AB47>100,"",IF(INT(入力画面!G8/100)=0,"\",MOD(INT(入力画面!G8/100),10))) | AB47: =IF(AD47>10,"",IF(INT(入力画面!G8/10)=0,"\",MOD(INT(入力画面!G8/10),10))) | AD47: =IF(入力画面!G8>=1,MOD(入力画面!G8,10),"") | AK47: 延滞金 | AV47: =N47 | AX47: =P47 | AZ47: =R47 | BB47: =T47 | BD47: =V47 | BF47: =X47 | BH47: =Z47 | BJ47: =AB47 | BL47: =AD47 | BS47: 延滞金 | CD47: =AV47 | CF47: =AX47 | CH47: =AZ47 | CJ47: =BB47 | CL47: =BD47 | CN47: =BF47 | CP47: =BH47 | CR47: =BJ47 | CT47: =BL47
C53: 督促手数料 | N53: =IF(P53 >100000000,"",IF(INT(入力画面!G9/100000000)=0,"\",MOD(INT(入力画面!G9/100000000),10))) | P53: =IF(R53>10000000,"",IF(INT(入力画面!G9/10000000)=0,"\",MOD(INT(入力画面!G9/10000000),10))) | R53: =IF(T53>1000000,"",IF(INT(入力画面!G9/1000000)=0,"\",MOD(INT(入力画面!G9/1000000),10))) | T53: =IF(V53>100000,"",IF(INT(入力画面!G9/100000)=0,"\",MOD(INT(入力画面!G9/100000),10))) | V53: =IF(X53>10000,"",IF(INT(入力画面!G9/10000)=0,"\",MOD(INT(入力画面!G9/10000),10))) | X53: =IF(Z53>1000,"",IF(INT(入力画面!G9/1000)=0,"\",MOD(INT(入力画面!G9/1000),10))) | Z53: =IF(AB53>100,"",IF(INT(入力画面!G9/100)=0,"\",MOD(INT(入力画面!G9/100),10))) | AB53: =IF(AD53>10,"",IF(INT(入力画面!G9/10)=0,"\",MOD(INT(入力画面!G9/10),10))) | AD53: =IF(入力画面!G9>=1,MOD(入力画面!G9,10),"") | AK53: 督促手数料 | AV53: =N53 | AX53: =P53 | AZ53: =R53 | BB53: =T53 | BD53: =V53 | BF53: =X53 | BH53: =Z53 | BJ53: =AB53 | BL53: =AD53 | BS53: 督促手数料 | CD53: =AV53 | CF53: =AX53 | CH53: =AZ53 | CJ53: =BB53 | CL53: =BD53 | CN53: =BF53 | CP53: =BH53 | CR53: =BJ53 | CT53: =BL53
C59: 合計額 | N59: =IF(P59>100000000,"",IF(INT(入力画面!G10/100000000)=0,"\",MOD(INT(入力画面!G10/100000000),10))) | P59: =IF(R59>10000000,"",IF(INT(入力画面!G10/10000000)=0,"\",MOD(INT(入力画面!G10/10000000),10))) | R59: =IF(T59>1000000,"",IF(INT(入力画面!G10/1000000)=0,"\",MOD(INT(入力画面!G10/1000000),10))) | T59: =IF(V59>100000,"",IF(INT(入力画面!G10/100000)=0,"\",MOD(INT(入力画面!G10/100000),10))) -> \ | V59: =IF(X59>10000,"",IF(INT(入力画面!G10/10000)=0,"\",MOD(INT(入力画面!G10/10000),10))) -> 1 | X59: =IF(Z59>1000,"",IF(INT(入力画面!G10/1000)=0,"\",MOD(INT(入力画面!G10/1000),10))) -> 0 | Z59: =IF(AB59>100,"",IF(INT(入力画面!G10/100)=0,"\",MOD(INT(入力画面!G10/100),10))) -> 0 | AB59: =IF(AD59>10,"",IF(INT(入力画面!G10/10)=0,"\",MOD(INT(入力画面!G10/10),10))) -> 0 | AD59: =IF(入力画面!G10>=1,MOD(入力画面!G10,10),"") -> 0 | AK59: 合計額 | AV59: =N59 | AX59: =P59 | AZ59: =R59 | BB59: =T59 -> \ | BD59: =V59 -> 1 | BF59: =X59 -> 0 | BH59: =Z59 -> 0 | BJ59: =AB59 -> 0 | BL59: =AD59 -> 0 | BS59: 合計額 | CD59: =AV59 | CF59: =AX59 | CH59: =AZ59 | CJ59: =BB59 -> \ | CL59: =BD59 -> 1 | CN59: =BF59 -> 0 | CP59: =BH59 -> 0 | CR59: =BJ59 -> 0 | CT59: =BL59 -> 0
A65: 納期限 | AI65: 納期限 | BQ65: 納期限
O66: =IF(納期限!E1="×","",入力画面!G11) -> 令和8年9月10日 | AW66: =O66 -> 令和8年9月10日 | CE66: =O66 -> 令和8年9月10日
A71: （特別徴収義務者） | AI71: （特別徴収義務者） | BQ71: （特別徴収義務者）
B74: 住所又は 所在地 | H74: =IF(納期限!E1="×","",入力画面!B14) -> 越前市府中〇丁目〇-〇 | AJ74: 住所又は 所在地 | AP74: =H74 -> 越前市府中〇丁目〇-〇 | BR74: 住所又は 所在地 | BX74: =H74 -> 越前市府中〇丁目〇-〇
B79: 氏名又は 名称 | H79: =IF(納期限!E1="×","",入力画面!B17) -> 〇〇 株式会社 | AJ79: 氏名又は 名称 | AP79: =H79 -> 〇〇 株式会社 | BR79: 氏名又は 名称 | BX79: =H79 -> 〇〇 株式会社
S85: 領収日付印 | AI85: 上記のとおり納入します。 | BA85: 領収日付印 | BQ85: 取りまとめ店 | CI85: 領収日付印
A86: 上記のとおり領収しました。
AI88: ※ | AY88: 口 | BQ88: 指定金融 機関名 (取りまとめ店) | BW88: ㈱福井銀行 武生支店
AJ91: 日計
AY93: 円
BQ94: 取りまとめ店 | BW94: ゆうちょ銀行 金沢貯金事務センター
AI98: ※印は金融機関等において使用 する欄です。
BQ100: 上記のとおり通知します。
S103: (納入者保管) | BA103: （金融機関等保管） | CE103: （越前市保管）福井県越前市
A109: 市・県民税 退職所得に係る | P109: 納入申告書 | AI109: 納入場所
A115: 越前市長 殿 | Q115: 地方税法第50条の5および第328条の5第2項の規定により左記のとおり分離課税に係る所得割の納入について申告します。 | AI115: 越前市収納金融機関
D120: 年 | H120: 月 | L120: 日提出
AI121: 福井銀行
D125: =IF(納期限!E1="×","",IF(入力画面!G7=0,"",納期限!D1&"分")) | M125: 人員 | O125: 人
Q126: ※１ | T126: 法人番号欄には、法人番号の指定を受けている場合のみ記載してください。
AI127: 北陸銀行
A130: 退職手当等 支払金額 | O130: 円
AI133: 北國銀行
Q134: ※２ | T134: 退職所得等受給者の内訳については、「退職所得に係る市・県民税特別徴収税額納入申告内訳書」を提出してください。
A135: 特徴税額 | C135: 市民税 | O135: 円
AI139: 福井信用金庫
C140: 県民税 | O140: 円
A145: （特別徴収義務者） | AA145: （受付印） | AI145: 北陸労働金庫
B150: 住所又は 所在地 | I150: =IF(納期限!E1="×","",IF(入力画面!G7=0,"",H74))
AI151: 越前たけふ農業協同組合
AI157: 福井県農業協同組合
B158: 氏名又は 名称 | I158: =IF(納期限!E1="×","",IF(入力画面!G7=0,"",H79))
AI163: ゆうちょ銀行または郵便局
A166: 法人番号 ※１
AI169: （福井県・石川県・富山県）

Sheet 手書き用 
A1: 福井県 越前市 | M1: 個人市民税 個人県民税 領収証書 | AI1: 福井県 越前市 | AU1: 個人市民税 個人県民税 納入書(原符) | BQ1: 福井県 越前市 | CC1: 個人市民税 個人県民税 納入済通知書
A9: 市町村コード | AI9: 市町村コード | BQ9: 市町村コード | CC9: 科目コード
A12: 1 | C12: 8 | E12: 2 | G12: 0 | I12: 9 | K12: 5 | AI12: 1 | AK12: 8 | AM12: 2 | AO12: 0 | AQ12: 9 | AS12: 5 | BQ12: 1 | BS12: 8 | BU12: 2 | BW12: 0 | BY12: 9 | CA12: 5 | CC12: 02
A16: 口座番号 | Q16: 加入者名 | AI16: 口座番号 | AY16: 加入者名 | BQ16: 口座番号 | CG16: 加入者名
A19: 00740-7-960391 | Q19: 越前市会計管理者 | AI19: =A19 -> 00740-7-960391 | AY19: 越前市会計管理者 | BQ19: =AI19 -> 00740-7-960391 | CG19: 越前市会計管理者
A23: 令和 | I23: 年 | O23: 指定番号 | AI23: 令和 | AQ23: 年 | AW23: 指定番号 | BQ23: 令和 | BY23: 年 | CE23: 指定番号
I27: 月分 | AQ27: 月分 | BY27: 月分
A34: 納入金額 | C34: 給与分 （一括徴収分を含む） | N34: 億 | P34: 千 | R34: 百 | T34: 十 | V34: 万 | X34: 千 | Z34: 百 | AB34: 十 | AD34: 円 | AI34: 納入金額 | AK34: 給与分 （一括徴収分を含む） | AV34: 億 | AX34: 千 | AZ34: 百 | BB34: 十 | BD34: 万 | BF34: 千 | BH34: 百 | BJ34: 十 | BL34: 円 | BQ34: 納入金額 | BS34: 給与分 （一括徴収分を含む） | CD34: 億 | CF34: 千 | CH34: 百 | CJ34: 十 | CL34: 万 | CN34: 千 | CP34: 百 | CR34: 十 | CT34: 円
C41: 退職所得分 | AK41: 退職所得分 | BS41: 退職所得分
C47: 延滞金 | AK47: 延滞金 | BS47: 延滞金
C53: 督促手数料 | AK53: 督促手数料 | BS53: 督促手数料
C59: 合計額 | AK59: 合計額 | BS59: 合計額
A65: 納期限 | AI65: 納期限 | BQ65: 納期限
O66: 令和 | U66: 年 | Y66: 月 | AC66: 日 | AW66: 令和 | BC66: 年 | BG66: 月 | BK66: 日 | CE66: 令和 | CK66: 年 | CO66: 月 | CS66: 日
A71: （特別徴収義務者） | AI71: （特別徴収義務者） | BQ71: （特別徴収義務者）
B74: 住所又は 所在地 | AJ74: 住所又は 所在地 | BR74: 住所又は 所在地
B79: 氏名又は 名称 | AJ79: 氏名又は 名称 | BR79: 氏名又は 名称
S85: 領収日付印 | AI85: 上記のとおり納入します。 | BA85: 領収日付印 | BQ85: 取りまとめ店 | CI85: 領収日付印
A86: 上記のとおり領収しました。
AI88: ※ | AY88: 口 | BQ88: 指定金融 機関名 (取りまとめ店) | BW88: ㈱福井銀行 武生支店
AJ91: 日計
AY93: 円
BQ94: 取りまとめ店 | BW94: ゆうちょ銀行 金沢貯金事務センター
AI98: ※印は金融機関等において使用 する欄です。
BQ100: 上記のとおり通知します。
S103: (納入者保管) | BA103: （金融機関等保管） | CE103: （越前市保管）福井県越前市
A109: 市・県民税 退職所得に係る | P109: 納入申告書 | AI109: 納入場所
A115: 越前市長 殿 | Q115: 地方税法第50条の5および第328条の5第2項の規定により左記のとおり分離課税に係る所得割の納入について申告します。 | AI115: 越前市収納金融機関
D120: 年 | H120: 月 | L120: 日提出
AI121: 福井銀行
F125: 年 | J125: 月分 | M125: 人員 | O125: 人
Q126: ※１ | T126: 法人番号欄には、法人番号の指定を受けている場合のみ記載してください。
AI127: 北陸銀行
A130: 退職手当等 支払金額 | O130: 円
AI133: 北國銀行
Q134: ※２ | T134: 退職所得等受給者の内訳については、「退職所得に係る市・県民税特別徴収税額納入申告内訳書」を提出してください。
A135: 特徴税額 | C135: 市民税 | O135: 円
AI139: 福井信用金庫
C140: 県民税 | O140: 円
A145: （特別徴収義務者） | AA145: （受付印） | AI145: 北陸労働金庫
B150: 住所又は 所在地
AI151: 越前たけふ農業協同組合
AI157: 福井県農業協同組合
B158: 氏名又は 名称
AI163: ゆうちょ銀行または郵便局
A166: 法人番号 ※１
AI169: （福井県・石川県・富山県）

Sheet 納期限
B1: 納期限（日） | C1: 納期限 | D1: =CONCATENATE(入力画面!B5,入力画面!C5,入力画面!D5,入力画面!E5,"月") -> 令和8年8月 | E1: =IF(OR(入力画面!C5="",入力画面!E5="",入力画面!G5="",入力画面!B14="",入力画面!B17="",入力画面!G11=""),"×","")
A2: 令和6年6月 | B2: 10 | C2: =A3&B2&"日" -> 令和6年7月10日
A3: 令和6年7月 | B3: 13 | C3: =A4&B3&"日" -> 令和6年8月13日
A4: 令和6年8月 | B4: 10 | C4: =A5&B4&"日" -> 令和6年9月10日
A5: 令和6年9月 | B5: 10 | C5: =A6&B5&"日" -> 令和6年10月10日
A6: 令和6年10月 | B6: 11 | C6: =A7&B6&"日" -> 令和6年11月11日
A7: 令和6年11月 | B7: 10 | C7: =A8&B7&"日" -> 令和6年12月10日
A8: 令和6年12月 | B8: 10 | C8: =A9&B8&"日" -> 令和7年1月10日
A9: 令和7年1月 | B9: 10 | C9: =A10&B9&"日" -> 令和7年2月10日
A10: 令和7年2月 | B10: 10 | C10: =A11&B10&"日" -> 令和7年3月10日
A11: 令和7年3月 | B11: 10 | C11: =A12&B11&"日" -> 令和7年4月10日
A12: 令和7年4月 | B12: 12 | C12: =A13&B12&"日" -> 令和7年5月12日
A13: 令和7年5月 | B13: 10 | C13: =A14&B13&"日" -> 令和7年6月10日
... A37: 令和9年5月 | B37: 10 | C37: =A38&B37&"日" -> 令和9年6月10日
A38: 令和9年6月
